BEGIN:VCALENDAR
VERSION:2.0
PRODID:-//St Pete Running Company - ECPv6.12.0//NONSGML v1.0//EN
CALSCALE:GREGORIAN
METHOD:PUBLISH
X-WR-CALNAME:St Pete Running Company
X-ORIGINAL-URL:https://stpeterunningco.com
X-WR-CALDESC:Events for St Pete Running Company
REFRESH-INTERVAL;VALUE=DURATION:PT1H
X-Robots-Tag:noindex
X-PUBLISHED-TTL:PT1H
BEGIN:VTIMEZONE
TZID:America/New_York
BEGIN:DAYLIGHT
TZOFFSETFROM:-0500
TZOFFSETTO:-0400
TZNAME:EDT
DTSTART:20230312T070000
END:DAYLIGHT
BEGIN:STANDARD
TZOFFSETFROM:-0400
TZOFFSETTO:-0500
TZNAME:EST
DTSTART:20231105T060000
END:STANDARD
END:VTIMEZONE
BEGIN:VEVENT
DTSTART;TZID=America/New_York:20230422T080000
DTEND;TZID=America/New_York:20230422T103000
DTSTAMP:20260421T062517
CREATED:20230228T210856Z
LAST-MODIFIED:20230228T210856Z
UID:10000303-1682150400-1682159400@stpeterunningco.com
SUMMARY:Race For The Cupcake 5K
DESCRIPTION:LOVE RUNNING? LOVE CUPCAKE? SO DO WE! Join us as we RACE FOR THE CUPCAKES!\nSt. Pete Running Company’s Race For The Cupcake 5K is a fun run on the beach at Pass-A-Grille Beach. We’d love for you to join us! Runners\, joggers\, and walkers welcome. This event is a celebration run of our community.\nAll registrants will receive a bib\, timed 5k race\, finishers medal\, campfire mug\, and a cupcake!!!! (with a gluten free option available from Craft Kafe).\nCost of the race:\nFeb 27 – March 4 $25\nMarch 5 – March 24 $30\nMarch 25 – April 11 $35\nApril 12 – April 21 $40\nOnline registration closes April 21st\nRACE MORNING $50.00\nWe offer a FREE Kids Race!\nAlso we have a virtual option if your not able to attend the day of the event.\nREGISTER through the link: https://raceroster.com/events/2023/73246/race-for-the-cupcake-5k-2023\n\nRace for the Cupcake helps benefit Girls on The Run. Girls on The Run is a non-profit program that teaches girls self-respect\, to be joyful and confident\, and to live a healthy lifestyle through interactive lessons\, running games\, and a culminating celebratory 5k run. Run our race to help support there awesome programs!
URL:https://stpeterunningco.com/event/race-for-the-cupcake-5k/
LOCATION:Hurley Park\, 1501 Gulf Way\, St. Pete Beach\, FL\, 33706\, United States
END:VEVENT
END:VCALENDAR