BEGIN:VCALENDAR
VERSION:2.0
PRODID:-//St Pete Running Company - ECPv6.12.0//NONSGML v1.0//EN
CALSCALE:GREGORIAN
METHOD:PUBLISH
X-ORIGINAL-URL:https://stpeterunningco.com
X-WR-CALDESC:Events for St Pete Running Company
REFRESH-INTERVAL;VALUE=DURATION:PT1H
X-Robots-Tag:noindex
X-PUBLISHED-TTL:PT1H
BEGIN:VTIMEZONE
TZID:America/New_York
BEGIN:DAYLIGHT
TZOFFSETFROM:-0500
TZOFFSETTO:-0400
TZNAME:EDT
DTSTART:20260308T070000
END:DAYLIGHT
BEGIN:STANDARD
TZOFFSETFROM:-0400
TZOFFSETTO:-0500
TZNAME:EST
DTSTART:20261101T060000
END:STANDARD
END:VTIMEZONE
BEGIN:VEVENT
DTSTART;TZID=America/New_York:20260602T053000
DTEND;TZID=America/New_York:20260602T064500
DTSTAMP:20260423T121506
CREATED:20251120T175232Z
LAST-MODIFIED:20251120T175233Z
UID:10001067-1780378200-1780382700@stpeterunningco.com
SUMMARY:Swim St Pete
DESCRIPTION:Join us for our adult swim training club. This is for beginning to advanced swimmers. (Need to be able to swim 1-2 lengths of the pool)\, we have high energy and knowledgeable coaches to lead the session. Pay at the pool $10 drop in or $60 per month. Walter Fuller Pool
URL:https://stpeterunningco.com/event/swim-st-pete-4-2-2/2026-06-02/
LOCATION:Walter Fuller Pool\, 7883 26th Ave N\, St Petersburg\, Fl
CATEGORIES:Training Program
END:VEVENT
BEGIN:VEVENT
DTSTART;TZID=America/New_York:20260604T053000
DTEND;TZID=America/New_York:20260604T064500
DTSTAMP:20260423T121506
CREATED:20231202T040811Z
LAST-MODIFIED:20251120T175051Z
UID:10000808-1780551000-1780555500@stpeterunningco.com
SUMMARY:Swim St Pete
DESCRIPTION:Join us for our adult swim training club. This is for beginning to advanced swimmers. (Need to be able to swim 1-2 lengths of the pool)\, we have high energy and knowledgeable coaches to lead the session. Pay at the pool $10 drop in or $60 per month. Walter Fuller Pool
URL:https://stpeterunningco.com/event/swim-st-pete-2-2-2/2026-06-04/
LOCATION:Walter Fuller Pool\, 7883 26th Ave N\, St Petersburg\, Fl
CATEGORIES:Training Program
END:VEVENT
BEGIN:VEVENT
DTSTART;TZID=America/New_York:20260606T093000
DTEND;TZID=America/New_York:20260606T103000
DTSTAMP:20260423T121506
CREATED:20251120T173726Z
LAST-MODIFIED:20251120T173726Z
UID:10002260-1780738200-1780741800@stpeterunningco.com
SUMMARY:Swim St Pete
DESCRIPTION:Join us for our adult swim training club. This is for beginning to advanced swimmers. (Need to be able to swim 1-2 lengths of the pool)\, we have high energy and knowledgeable coaches to lead the session. Pay at the pool $10 drop in or $60 per month. Walter Fuller Pool
URL:https://stpeterunningco.com/event/swim-st-pete-3-2-2-2-2/2026-06-06/
LOCATION:Walter Fuller Pool\, 7883 26th Ave N\, St Petersburg\, Fl
CATEGORIES:Training Program
END:VEVENT
BEGIN:VEVENT
DTSTART;TZID=America/New_York:20260609T053000
DTEND;TZID=America/New_York:20260609T064500
DTSTAMP:20260423T121506
CREATED:20251120T175232Z
LAST-MODIFIED:20251120T175233Z
UID:10001068-1780983000-1780987500@stpeterunningco.com
SUMMARY:Swim St Pete
DESCRIPTION:Join us for our adult swim training club. This is for beginning to advanced swimmers. (Need to be able to swim 1-2 lengths of the pool)\, we have high energy and knowledgeable coaches to lead the session. Pay at the pool $10 drop in or $60 per month. Walter Fuller Pool
URL:https://stpeterunningco.com/event/swim-st-pete-4-2-2/2026-06-09/
LOCATION:Walter Fuller Pool\, 7883 26th Ave N\, St Petersburg\, Fl
CATEGORIES:Training Program
END:VEVENT
BEGIN:VEVENT
DTSTART;TZID=America/New_York:20260611T053000
DTEND;TZID=America/New_York:20260611T064500
DTSTAMP:20260423T121506
CREATED:20231202T040811Z
LAST-MODIFIED:20251120T175051Z
UID:10000809-1781155800-1781160300@stpeterunningco.com
SUMMARY:Swim St Pete
DESCRIPTION:Join us for our adult swim training club. This is for beginning to advanced swimmers. (Need to be able to swim 1-2 lengths of the pool)\, we have high energy and knowledgeable coaches to lead the session. Pay at the pool $10 drop in or $60 per month. Walter Fuller Pool
URL:https://stpeterunningco.com/event/swim-st-pete-2-2-2/2026-06-11/
LOCATION:Walter Fuller Pool\, 7883 26th Ave N\, St Petersburg\, Fl
CATEGORIES:Training Program
END:VEVENT
BEGIN:VEVENT
DTSTART;TZID=America/New_York:20260613T093000
DTEND;TZID=America/New_York:20260613T103000
DTSTAMP:20260423T121506
CREATED:20251120T173726Z
LAST-MODIFIED:20251120T173726Z
UID:10002261-1781343000-1781346600@stpeterunningco.com
SUMMARY:Swim St Pete
DESCRIPTION:Join us for our adult swim training club. This is for beginning to advanced swimmers. (Need to be able to swim 1-2 lengths of the pool)\, we have high energy and knowledgeable coaches to lead the session. Pay at the pool $10 drop in or $60 per month. Walter Fuller Pool
URL:https://stpeterunningco.com/event/swim-st-pete-3-2-2-2-2/2026-06-13/
LOCATION:Walter Fuller Pool\, 7883 26th Ave N\, St Petersburg\, Fl
CATEGORIES:Training Program
END:VEVENT
BEGIN:VEVENT
DTSTART;TZID=America/New_York:20260616T053000
DTEND;TZID=America/New_York:20260616T064500
DTSTAMP:20260423T121506
CREATED:20251120T175232Z
LAST-MODIFIED:20251120T175233Z
UID:10001069-1781587800-1781592300@stpeterunningco.com
SUMMARY:Swim St Pete
DESCRIPTION:Join us for our adult swim training club. This is for beginning to advanced swimmers. (Need to be able to swim 1-2 lengths of the pool)\, we have high energy and knowledgeable coaches to lead the session. Pay at the pool $10 drop in or $60 per month. Walter Fuller Pool
URL:https://stpeterunningco.com/event/swim-st-pete-4-2-2/2026-06-16/
LOCATION:Walter Fuller Pool\, 7883 26th Ave N\, St Petersburg\, Fl
CATEGORIES:Training Program
END:VEVENT
BEGIN:VEVENT
DTSTART;TZID=America/New_York:20260618T053000
DTEND;TZID=America/New_York:20260618T064500
DTSTAMP:20260423T121506
CREATED:20231202T040811Z
LAST-MODIFIED:20251120T175051Z
UID:10000810-1781760600-1781765100@stpeterunningco.com
SUMMARY:Swim St Pete
DESCRIPTION:Join us for our adult swim training club. This is for beginning to advanced swimmers. (Need to be able to swim 1-2 lengths of the pool)\, we have high energy and knowledgeable coaches to lead the session. Pay at the pool $10 drop in or $60 per month. Walter Fuller Pool
URL:https://stpeterunningco.com/event/swim-st-pete-2-2-2/2026-06-18/
LOCATION:Walter Fuller Pool\, 7883 26th Ave N\, St Petersburg\, Fl
CATEGORIES:Training Program
END:VEVENT
BEGIN:VEVENT
DTSTART;TZID=America/New_York:20260620T093000
DTEND;TZID=America/New_York:20260620T103000
DTSTAMP:20260423T121506
CREATED:20251120T173726Z
LAST-MODIFIED:20251120T173726Z
UID:10002262-1781947800-1781951400@stpeterunningco.com
SUMMARY:Swim St Pete
DESCRIPTION:Join us for our adult swim training club. This is for beginning to advanced swimmers. (Need to be able to swim 1-2 lengths of the pool)\, we have high energy and knowledgeable coaches to lead the session. Pay at the pool $10 drop in or $60 per month. Walter Fuller Pool
URL:https://stpeterunningco.com/event/swim-st-pete-3-2-2-2-2/2026-06-20/
LOCATION:Walter Fuller Pool\, 7883 26th Ave N\, St Petersburg\, Fl
CATEGORIES:Training Program
END:VEVENT
BEGIN:VEVENT
DTSTART;TZID=America/New_York:20260623T053000
DTEND;TZID=America/New_York:20260623T064500
DTSTAMP:20260423T121506
CREATED:20251120T175232Z
LAST-MODIFIED:20251120T175233Z
UID:10001070-1782192600-1782197100@stpeterunningco.com
SUMMARY:Swim St Pete
DESCRIPTION:Join us for our adult swim training club. This is for beginning to advanced swimmers. (Need to be able to swim 1-2 lengths of the pool)\, we have high energy and knowledgeable coaches to lead the session. Pay at the pool $10 drop in or $60 per month. Walter Fuller Pool
URL:https://stpeterunningco.com/event/swim-st-pete-4-2-2/2026-06-23/
LOCATION:Walter Fuller Pool\, 7883 26th Ave N\, St Petersburg\, Fl
CATEGORIES:Training Program
END:VEVENT
BEGIN:VEVENT
DTSTART;TZID=America/New_York:20260625T053000
DTEND;TZID=America/New_York:20260625T064500
DTSTAMP:20260423T121506
CREATED:20231202T040811Z
LAST-MODIFIED:20251120T175051Z
UID:10000811-1782365400-1782369900@stpeterunningco.com
SUMMARY:Swim St Pete
DESCRIPTION:Join us for our adult swim training club. This is for beginning to advanced swimmers. (Need to be able to swim 1-2 lengths of the pool)\, we have high energy and knowledgeable coaches to lead the session. Pay at the pool $10 drop in or $60 per month. Walter Fuller Pool
URL:https://stpeterunningco.com/event/swim-st-pete-2-2-2/2026-06-25/
LOCATION:Walter Fuller Pool\, 7883 26th Ave N\, St Petersburg\, Fl
CATEGORIES:Training Program
END:VEVENT
BEGIN:VEVENT
DTSTART;TZID=America/New_York:20260627T093000
DTEND;TZID=America/New_York:20260627T103000
DTSTAMP:20260423T121506
CREATED:20251120T173726Z
LAST-MODIFIED:20251120T173726Z
UID:10002263-1782552600-1782556200@stpeterunningco.com
SUMMARY:Swim St Pete
DESCRIPTION:Join us for our adult swim training club. This is for beginning to advanced swimmers. (Need to be able to swim 1-2 lengths of the pool)\, we have high energy and knowledgeable coaches to lead the session. Pay at the pool $10 drop in or $60 per month. Walter Fuller Pool
URL:https://stpeterunningco.com/event/swim-st-pete-3-2-2-2-2/2026-06-27/
LOCATION:Walter Fuller Pool\, 7883 26th Ave N\, St Petersburg\, Fl
CATEGORIES:Training Program
END:VEVENT
BEGIN:VEVENT
DTSTART;TZID=America/New_York:20260630T053000
DTEND;TZID=America/New_York:20260630T064500
DTSTAMP:20260423T121506
CREATED:20251120T175232Z
LAST-MODIFIED:20251120T175233Z
UID:10001071-1782797400-1782801900@stpeterunningco.com
SUMMARY:Swim St Pete
DESCRIPTION:Join us for our adult swim training club. This is for beginning to advanced swimmers. (Need to be able to swim 1-2 lengths of the pool)\, we have high energy and knowledgeable coaches to lead the session. Pay at the pool $10 drop in or $60 per month. Walter Fuller Pool
URL:https://stpeterunningco.com/event/swim-st-pete-4-2-2/2026-06-30/
LOCATION:Walter Fuller Pool\, 7883 26th Ave N\, St Petersburg\, Fl
CATEGORIES:Training Program
END:VEVENT
END:VCALENDAR