BEGIN:VCALENDAR
VERSION:2.0
PRODID:-//St Pete Running Company - ECPv6.12.0//NONSGML v1.0//EN
CALSCALE:GREGORIAN
METHOD:PUBLISH
X-ORIGINAL-URL:https://stpeterunningco.com
X-WR-CALDESC:Events for St Pete Running Company
REFRESH-INTERVAL;VALUE=DURATION:PT1H
X-Robots-Tag:noindex
X-PUBLISHED-TTL:PT1H
BEGIN:VTIMEZONE
TZID:America/New_York
BEGIN:DAYLIGHT
TZOFFSETFROM:-0500
TZOFFSETTO:-0400
TZNAME:EDT
DTSTART:20260308T070000
END:DAYLIGHT
BEGIN:STANDARD
TZOFFSETFROM:-0400
TZOFFSETTO:-0500
TZNAME:EST
DTSTART:20261101T060000
END:STANDARD
END:VTIMEZONE
BEGIN:VEVENT
DTSTART;TZID=America/New_York:20260203T053000
DTEND;TZID=America/New_York:20260203T064500
DTSTAMP:20260423T122130
CREATED:20251120T175232Z
LAST-MODIFIED:20251120T175233Z
UID:10001050-1770096600-1770101100@stpeterunningco.com
SUMMARY:Swim St Pete
DESCRIPTION:Join us for our adult swim training club. This is for beginning to advanced swimmers. (Need to be able to swim 1-2 lengths of the pool)\, we have high energy and knowledgeable coaches to lead the session. Pay at the pool $10 drop in or $60 per month. Walter Fuller Pool
URL:https://stpeterunningco.com/event/swim-st-pete-4-2-2/2026-02-03/
LOCATION:Walter Fuller Pool\, 7883 26th Ave N\, St Petersburg\, Fl
CATEGORIES:Training Program
END:VEVENT
BEGIN:VEVENT
DTSTART;TZID=America/New_York:20260205T053000
DTEND;TZID=America/New_York:20260205T064500
DTSTAMP:20260423T122130
CREATED:20231202T040811Z
LAST-MODIFIED:20251120T175051Z
UID:10000791-1770269400-1770273900@stpeterunningco.com
SUMMARY:Swim St Pete
DESCRIPTION:Join us for our adult swim training club. This is for beginning to advanced swimmers. (Need to be able to swim 1-2 lengths of the pool)\, we have high energy and knowledgeable coaches to lead the session. Pay at the pool $10 drop in or $60 per month. Walter Fuller Pool
URL:https://stpeterunningco.com/event/swim-st-pete-2-2-2/2026-02-05/
LOCATION:Walter Fuller Pool\, 7883 26th Ave N\, St Petersburg\, Fl
CATEGORIES:Training Program
END:VEVENT
BEGIN:VEVENT
DTSTART;TZID=America/New_York:20260207T093000
DTEND;TZID=America/New_York:20260207T103000
DTSTAMP:20260423T122130
CREATED:20251120T173726Z
LAST-MODIFIED:20251120T173726Z
UID:10002243-1770456600-1770460200@stpeterunningco.com
SUMMARY:Swim St Pete
DESCRIPTION:Join us for our adult swim training club. This is for beginning to advanced swimmers. (Need to be able to swim 1-2 lengths of the pool)\, we have high energy and knowledgeable coaches to lead the session. Pay at the pool $10 drop in or $60 per month. Walter Fuller Pool
URL:https://stpeterunningco.com/event/swim-st-pete-3-2-2-2-2/2026-02-07/
LOCATION:Walter Fuller Pool\, 7883 26th Ave N\, St Petersburg\, Fl
CATEGORIES:Training Program
END:VEVENT
BEGIN:VEVENT
DTSTART;TZID=America/New_York:20260210T053000
DTEND;TZID=America/New_York:20260210T064500
DTSTAMP:20260423T122130
CREATED:20251120T175232Z
LAST-MODIFIED:20251120T175233Z
UID:10001051-1770701400-1770705900@stpeterunningco.com
SUMMARY:Swim St Pete
DESCRIPTION:Join us for our adult swim training club. This is for beginning to advanced swimmers. (Need to be able to swim 1-2 lengths of the pool)\, we have high energy and knowledgeable coaches to lead the session. Pay at the pool $10 drop in or $60 per month. Walter Fuller Pool
URL:https://stpeterunningco.com/event/swim-st-pete-4-2-2/2026-02-10/
LOCATION:Walter Fuller Pool\, 7883 26th Ave N\, St Petersburg\, Fl
CATEGORIES:Training Program
END:VEVENT
BEGIN:VEVENT
DTSTART;TZID=America/New_York:20260212T053000
DTEND;TZID=America/New_York:20260212T064500
DTSTAMP:20260423T122130
CREATED:20231202T040811Z
LAST-MODIFIED:20251120T175051Z
UID:10000792-1770874200-1770878700@stpeterunningco.com
SUMMARY:Swim St Pete
DESCRIPTION:Join us for our adult swim training club. This is for beginning to advanced swimmers. (Need to be able to swim 1-2 lengths of the pool)\, we have high energy and knowledgeable coaches to lead the session. Pay at the pool $10 drop in or $60 per month. Walter Fuller Pool
URL:https://stpeterunningco.com/event/swim-st-pete-2-2-2/2026-02-12/
LOCATION:Walter Fuller Pool\, 7883 26th Ave N\, St Petersburg\, Fl
CATEGORIES:Training Program
END:VEVENT
BEGIN:VEVENT
DTSTART;TZID=America/New_York:20260214T093000
DTEND;TZID=America/New_York:20260214T103000
DTSTAMP:20260423T122130
CREATED:20251120T173726Z
LAST-MODIFIED:20251120T173726Z
UID:10002244-1771061400-1771065000@stpeterunningco.com
SUMMARY:Swim St Pete
DESCRIPTION:Join us for our adult swim training club. This is for beginning to advanced swimmers. (Need to be able to swim 1-2 lengths of the pool)\, we have high energy and knowledgeable coaches to lead the session. Pay at the pool $10 drop in or $60 per month. Walter Fuller Pool
URL:https://stpeterunningco.com/event/swim-st-pete-3-2-2-2-2/2026-02-14/
LOCATION:Walter Fuller Pool\, 7883 26th Ave N\, St Petersburg\, Fl
CATEGORIES:Training Program
END:VEVENT
BEGIN:VEVENT
DTSTART;TZID=America/New_York:20260217T053000
DTEND;TZID=America/New_York:20260217T064500
DTSTAMP:20260423T122130
CREATED:20251120T175232Z
LAST-MODIFIED:20251120T175233Z
UID:10001052-1771306200-1771310700@stpeterunningco.com
SUMMARY:Swim St Pete
DESCRIPTION:Join us for our adult swim training club. This is for beginning to advanced swimmers. (Need to be able to swim 1-2 lengths of the pool)\, we have high energy and knowledgeable coaches to lead the session. Pay at the pool $10 drop in or $60 per month. Walter Fuller Pool
URL:https://stpeterunningco.com/event/swim-st-pete-4-2-2/2026-02-17/
LOCATION:Walter Fuller Pool\, 7883 26th Ave N\, St Petersburg\, Fl
CATEGORIES:Training Program
END:VEVENT
BEGIN:VEVENT
DTSTART;TZID=America/New_York:20260219T053000
DTEND;TZID=America/New_York:20260219T064500
DTSTAMP:20260423T122130
CREATED:20231202T040811Z
LAST-MODIFIED:20251120T175051Z
UID:10000793-1771479000-1771483500@stpeterunningco.com
SUMMARY:Swim St Pete
DESCRIPTION:Join us for our adult swim training club. This is for beginning to advanced swimmers. (Need to be able to swim 1-2 lengths of the pool)\, we have high energy and knowledgeable coaches to lead the session. Pay at the pool $10 drop in or $60 per month. Walter Fuller Pool
URL:https://stpeterunningco.com/event/swim-st-pete-2-2-2/2026-02-19/
LOCATION:Walter Fuller Pool\, 7883 26th Ave N\, St Petersburg\, Fl
CATEGORIES:Training Program
END:VEVENT
BEGIN:VEVENT
DTSTART;TZID=America/New_York:20260221T093000
DTEND;TZID=America/New_York:20260221T103000
DTSTAMP:20260423T122130
CREATED:20251120T173726Z
LAST-MODIFIED:20251120T173726Z
UID:10002245-1771666200-1771669800@stpeterunningco.com
SUMMARY:Swim St Pete
DESCRIPTION:Join us for our adult swim training club. This is for beginning to advanced swimmers. (Need to be able to swim 1-2 lengths of the pool)\, we have high energy and knowledgeable coaches to lead the session. Pay at the pool $10 drop in or $60 per month. Walter Fuller Pool
URL:https://stpeterunningco.com/event/swim-st-pete-3-2-2-2-2/2026-02-21/
LOCATION:Walter Fuller Pool\, 7883 26th Ave N\, St Petersburg\, Fl
CATEGORIES:Training Program
END:VEVENT
BEGIN:VEVENT
DTSTART;TZID=America/New_York:20260224T053000
DTEND;TZID=America/New_York:20260224T064500
DTSTAMP:20260423T122130
CREATED:20251120T175232Z
LAST-MODIFIED:20251120T175233Z
UID:10001053-1771911000-1771915500@stpeterunningco.com
SUMMARY:Swim St Pete
DESCRIPTION:Join us for our adult swim training club. This is for beginning to advanced swimmers. (Need to be able to swim 1-2 lengths of the pool)\, we have high energy and knowledgeable coaches to lead the session. Pay at the pool $10 drop in or $60 per month. Walter Fuller Pool
URL:https://stpeterunningco.com/event/swim-st-pete-4-2-2/2026-02-24/
LOCATION:Walter Fuller Pool\, 7883 26th Ave N\, St Petersburg\, Fl
CATEGORIES:Training Program
END:VEVENT
BEGIN:VEVENT
DTSTART;TZID=America/New_York:20260226T053000
DTEND;TZID=America/New_York:20260226T064500
DTSTAMP:20260423T122130
CREATED:20231202T040811Z
LAST-MODIFIED:20251120T175051Z
UID:10000794-1772083800-1772088300@stpeterunningco.com
SUMMARY:Swim St Pete
DESCRIPTION:Join us for our adult swim training club. This is for beginning to advanced swimmers. (Need to be able to swim 1-2 lengths of the pool)\, we have high energy and knowledgeable coaches to lead the session. Pay at the pool $10 drop in or $60 per month. Walter Fuller Pool
URL:https://stpeterunningco.com/event/swim-st-pete-2-2-2/2026-02-26/
LOCATION:Walter Fuller Pool\, 7883 26th Ave N\, St Petersburg\, Fl
CATEGORIES:Training Program
END:VEVENT
BEGIN:VEVENT
DTSTART;TZID=America/New_York:20260228T093000
DTEND;TZID=America/New_York:20260228T103000
DTSTAMP:20260423T122130
CREATED:20251120T173726Z
LAST-MODIFIED:20251120T173726Z
UID:10002246-1772271000-1772274600@stpeterunningco.com
SUMMARY:Swim St Pete
DESCRIPTION:Join us for our adult swim training club. This is for beginning to advanced swimmers. (Need to be able to swim 1-2 lengths of the pool)\, we have high energy and knowledgeable coaches to lead the session. Pay at the pool $10 drop in or $60 per month. Walter Fuller Pool
URL:https://stpeterunningco.com/event/swim-st-pete-3-2-2-2-2/2026-02-28/
LOCATION:Walter Fuller Pool\, 7883 26th Ave N\, St Petersburg\, Fl
CATEGORIES:Training Program
END:VEVENT
END:VCALENDAR