BEGIN:VCALENDAR
VERSION:2.0
PRODID:-//St Pete Running Company - ECPv6.12.0//NONSGML v1.0//EN
CALSCALE:GREGORIAN
METHOD:PUBLISH
X-WR-CALNAME:St Pete Running Company
X-ORIGINAL-URL:https://stpeterunningco.com
X-WR-CALDESC:Events for St Pete Running Company
REFRESH-INTERVAL;VALUE=DURATION:PT1H
X-Robots-Tag:noindex
X-PUBLISHED-TTL:PT1H
BEGIN:VTIMEZONE
TZID:America/New_York
BEGIN:DAYLIGHT
TZOFFSETFROM:-0500
TZOFFSETTO:-0400
TZNAME:EDT
DTSTART:20240310T070000
END:DAYLIGHT
BEGIN:STANDARD
TZOFFSETFROM:-0400
TZOFFSETTO:-0500
TZNAME:EST
DTSTART:20241103T060000
END:STANDARD
END:VTIMEZONE
BEGIN:VEVENT
DTSTART;TZID=America/New_York:20240801T053000
DTEND;TZID=America/New_York:20240801T064500
DTSTAMP:20260423T043755
CREATED:20231202T040811Z
LAST-MODIFIED:20251120T175051Z
UID:10000712-1722490200-1722494700@stpeterunningco.com
SUMMARY:Swim St Pete
DESCRIPTION:Join us for our adult swim training club. This is for beginning to advanced swimmers. (Need to be able to swim 1-2 lengths of the pool)\, we have high energy and knowledgeable coaches to lead the session. Pay at the pool $10 drop in or $60 per month. Walter Fuller Pool
URL:https://stpeterunningco.com/event/swim-st-pete-2-2-2/2024-08-01/
LOCATION:Walter Fuller Pool\, 7883 26th Ave N\, St Petersburg\, Fl
CATEGORIES:Training Program
END:VEVENT
BEGIN:VEVENT
DTSTART;TZID=America/New_York:20240803T093000
DTEND;TZID=America/New_York:20240803T103000
DTSTAMP:20260423T043755
CREATED:20240205T024435Z
LAST-MODIFIED:20240424T150907Z
UID:10002164-1722677400-1722681000@stpeterunningco.com
SUMMARY:Swim St Pete
DESCRIPTION:Join us for our adult swim training club. This is for beginning to advanced swimmers. (Need to be able to swim 1-2 lengths of the pool)\, we have high energy and knowledgeable coaches to lead the session. Pay at the pool $10 drop in or $50 per month. Walter Fuller Pool
URL:https://stpeterunningco.com/event/swim-st-pete-3-2-2-2/2024-08-03/
LOCATION:Walter Fuller Pool\, 7883 26th Ave N\, St Petersburg\, Fl
CATEGORIES:Training Program
END:VEVENT
BEGIN:VEVENT
DTSTART;TZID=America/New_York:20240806T053000
DTEND;TZID=America/New_York:20240806T064500
DTSTAMP:20260423T043755
CREATED:20231202T040530Z
LAST-MODIFIED:20250416T160609Z
UID:10000972-1722922200-1722926700@stpeterunningco.com
SUMMARY:Swim St Pete
DESCRIPTION:Join us for our adult swim training club. This is for beginning to advanced swimmers. (Need to be able to swim 1-2 lengths of the pool)\, we have high energy and knowledgeable coaches to lead the session. Pay at the pool $10 drop in or $50 per month. Walter Fuller Pool
URL:https://stpeterunningco.com/event/swim-st-pete-4-2/2024-08-06/
LOCATION:Walter Fuller Pool\, 7883 26th Ave N\, St Petersburg\, Fl
CATEGORIES:Training Program
END:VEVENT
BEGIN:VEVENT
DTSTART;TZID=America/New_York:20240808T053000
DTEND;TZID=America/New_York:20240808T064500
DTSTAMP:20260423T043755
CREATED:20231202T040811Z
LAST-MODIFIED:20251120T175051Z
UID:10000713-1723095000-1723099500@stpeterunningco.com
SUMMARY:Swim St Pete
DESCRIPTION:Join us for our adult swim training club. This is for beginning to advanced swimmers. (Need to be able to swim 1-2 lengths of the pool)\, we have high energy and knowledgeable coaches to lead the session. Pay at the pool $10 drop in or $60 per month. Walter Fuller Pool
URL:https://stpeterunningco.com/event/swim-st-pete-2-2-2/2024-08-08/
LOCATION:Walter Fuller Pool\, 7883 26th Ave N\, St Petersburg\, Fl
CATEGORIES:Training Program
END:VEVENT
BEGIN:VEVENT
DTSTART;TZID=America/New_York:20240810T093000
DTEND;TZID=America/New_York:20240810T103000
DTSTAMP:20260423T043755
CREATED:20240205T024435Z
LAST-MODIFIED:20240424T150907Z
UID:10002165-1723282200-1723285800@stpeterunningco.com
SUMMARY:Swim St Pete
DESCRIPTION:Join us for our adult swim training club. This is for beginning to advanced swimmers. (Need to be able to swim 1-2 lengths of the pool)\, we have high energy and knowledgeable coaches to lead the session. Pay at the pool $10 drop in or $50 per month. Walter Fuller Pool
URL:https://stpeterunningco.com/event/swim-st-pete-3-2-2-2/2024-08-10/
LOCATION:Walter Fuller Pool\, 7883 26th Ave N\, St Petersburg\, Fl
CATEGORIES:Training Program
END:VEVENT
BEGIN:VEVENT
DTSTART;TZID=America/New_York:20240813T053000
DTEND;TZID=America/New_York:20240813T064500
DTSTAMP:20260423T043755
CREATED:20231202T040530Z
LAST-MODIFIED:20250416T160609Z
UID:10000973-1723527000-1723531500@stpeterunningco.com
SUMMARY:Swim St Pete
DESCRIPTION:Join us for our adult swim training club. This is for beginning to advanced swimmers. (Need to be able to swim 1-2 lengths of the pool)\, we have high energy and knowledgeable coaches to lead the session. Pay at the pool $10 drop in or $50 per month. Walter Fuller Pool
URL:https://stpeterunningco.com/event/swim-st-pete-4-2/2024-08-13/
LOCATION:Walter Fuller Pool\, 7883 26th Ave N\, St Petersburg\, Fl
CATEGORIES:Training Program
END:VEVENT
BEGIN:VEVENT
DTSTART;TZID=America/New_York:20240815T053000
DTEND;TZID=America/New_York:20240815T064500
DTSTAMP:20260423T043755
CREATED:20231202T040811Z
LAST-MODIFIED:20251120T175051Z
UID:10000714-1723699800-1723704300@stpeterunningco.com
SUMMARY:Swim St Pete
DESCRIPTION:Join us for our adult swim training club. This is for beginning to advanced swimmers. (Need to be able to swim 1-2 lengths of the pool)\, we have high energy and knowledgeable coaches to lead the session. Pay at the pool $10 drop in or $60 per month. Walter Fuller Pool
URL:https://stpeterunningco.com/event/swim-st-pete-2-2-2/2024-08-15/
LOCATION:Walter Fuller Pool\, 7883 26th Ave N\, St Petersburg\, Fl
CATEGORIES:Training Program
END:VEVENT
BEGIN:VEVENT
DTSTART;TZID=America/New_York:20240817T093000
DTEND;TZID=America/New_York:20240817T103000
DTSTAMP:20260423T043755
CREATED:20240205T024435Z
LAST-MODIFIED:20240424T150907Z
UID:10002166-1723887000-1723890600@stpeterunningco.com
SUMMARY:Swim St Pete
DESCRIPTION:Join us for our adult swim training club. This is for beginning to advanced swimmers. (Need to be able to swim 1-2 lengths of the pool)\, we have high energy and knowledgeable coaches to lead the session. Pay at the pool $10 drop in or $50 per month. Walter Fuller Pool
URL:https://stpeterunningco.com/event/swim-st-pete-3-2-2-2/2024-08-17/
LOCATION:Walter Fuller Pool\, 7883 26th Ave N\, St Petersburg\, Fl
CATEGORIES:Training Program
END:VEVENT
BEGIN:VEVENT
DTSTART;TZID=America/New_York:20240820T053000
DTEND;TZID=America/New_York:20240820T064500
DTSTAMP:20260423T043755
CREATED:20231202T040530Z
LAST-MODIFIED:20250416T160609Z
UID:10000974-1724131800-1724136300@stpeterunningco.com
SUMMARY:Swim St Pete
DESCRIPTION:Join us for our adult swim training club. This is for beginning to advanced swimmers. (Need to be able to swim 1-2 lengths of the pool)\, we have high energy and knowledgeable coaches to lead the session. Pay at the pool $10 drop in or $50 per month. Walter Fuller Pool
URL:https://stpeterunningco.com/event/swim-st-pete-4-2/2024-08-20/
LOCATION:Walter Fuller Pool\, 7883 26th Ave N\, St Petersburg\, Fl
CATEGORIES:Training Program
END:VEVENT
BEGIN:VEVENT
DTSTART;TZID=America/New_York:20240822T053000
DTEND;TZID=America/New_York:20240822T064500
DTSTAMP:20260423T043755
CREATED:20231202T040811Z
LAST-MODIFIED:20251120T175051Z
UID:10000715-1724304600-1724309100@stpeterunningco.com
SUMMARY:Swim St Pete
DESCRIPTION:Join us for our adult swim training club. This is for beginning to advanced swimmers. (Need to be able to swim 1-2 lengths of the pool)\, we have high energy and knowledgeable coaches to lead the session. Pay at the pool $10 drop in or $60 per month. Walter Fuller Pool
URL:https://stpeterunningco.com/event/swim-st-pete-2-2-2/2024-08-22/
LOCATION:Walter Fuller Pool\, 7883 26th Ave N\, St Petersburg\, Fl
CATEGORIES:Training Program
END:VEVENT
BEGIN:VEVENT
DTSTART;TZID=America/New_York:20240824T093000
DTEND;TZID=America/New_York:20240824T103000
DTSTAMP:20260423T043755
CREATED:20240205T024435Z
LAST-MODIFIED:20240424T150907Z
UID:10002167-1724491800-1724495400@stpeterunningco.com
SUMMARY:Swim St Pete
DESCRIPTION:Join us for our adult swim training club. This is for beginning to advanced swimmers. (Need to be able to swim 1-2 lengths of the pool)\, we have high energy and knowledgeable coaches to lead the session. Pay at the pool $10 drop in or $50 per month. Walter Fuller Pool
URL:https://stpeterunningco.com/event/swim-st-pete-3-2-2-2/2024-08-24/
LOCATION:Walter Fuller Pool\, 7883 26th Ave N\, St Petersburg\, Fl
CATEGORIES:Training Program
END:VEVENT
BEGIN:VEVENT
DTSTART;TZID=America/New_York:20240827T053000
DTEND;TZID=America/New_York:20240827T064500
DTSTAMP:20260423T043755
CREATED:20231202T040530Z
LAST-MODIFIED:20250416T160609Z
UID:10000975-1724736600-1724741100@stpeterunningco.com
SUMMARY:Swim St Pete
DESCRIPTION:Join us for our adult swim training club. This is for beginning to advanced swimmers. (Need to be able to swim 1-2 lengths of the pool)\, we have high energy and knowledgeable coaches to lead the session. Pay at the pool $10 drop in or $50 per month. Walter Fuller Pool
URL:https://stpeterunningco.com/event/swim-st-pete-4-2/2024-08-27/
LOCATION:Walter Fuller Pool\, 7883 26th Ave N\, St Petersburg\, Fl
CATEGORIES:Training Program
END:VEVENT
BEGIN:VEVENT
DTSTART;TZID=America/New_York:20240829T053000
DTEND;TZID=America/New_York:20240829T064500
DTSTAMP:20260423T043755
CREATED:20231202T040811Z
LAST-MODIFIED:20251120T175051Z
UID:10000716-1724909400-1724913900@stpeterunningco.com
SUMMARY:Swim St Pete
DESCRIPTION:Join us for our adult swim training club. This is for beginning to advanced swimmers. (Need to be able to swim 1-2 lengths of the pool)\, we have high energy and knowledgeable coaches to lead the session. Pay at the pool $10 drop in or $60 per month. Walter Fuller Pool
URL:https://stpeterunningco.com/event/swim-st-pete-2-2-2/2024-08-29/
LOCATION:Walter Fuller Pool\, 7883 26th Ave N\, St Petersburg\, Fl
CATEGORIES:Training Program
END:VEVENT
BEGIN:VEVENT
DTSTART;TZID=America/New_York:20240831T093000
DTEND;TZID=America/New_York:20240831T103000
DTSTAMP:20260423T043755
CREATED:20240205T024435Z
LAST-MODIFIED:20240424T150907Z
UID:10002168-1725096600-1725100200@stpeterunningco.com
SUMMARY:Swim St Pete
DESCRIPTION:Join us for our adult swim training club. This is for beginning to advanced swimmers. (Need to be able to swim 1-2 lengths of the pool)\, we have high energy and knowledgeable coaches to lead the session. Pay at the pool $10 drop in or $50 per month. Walter Fuller Pool
URL:https://stpeterunningco.com/event/swim-st-pete-3-2-2-2/2024-08-31/
LOCATION:Walter Fuller Pool\, 7883 26th Ave N\, St Petersburg\, Fl
CATEGORIES:Training Program
END:VEVENT
END:VCALENDAR