BEGIN:VCALENDAR
VERSION:2.0
PRODID:-//St Pete Running Company - ECPv6.12.0//NONSGML v1.0//EN
CALSCALE:GREGORIAN
METHOD:PUBLISH
X-ORIGINAL-URL:https://stpeterunningco.com
X-WR-CALDESC:Events for St Pete Running Company
REFRESH-INTERVAL;VALUE=DURATION:PT1H
X-Robots-Tag:noindex
X-PUBLISHED-TTL:PT1H
BEGIN:VTIMEZONE
TZID:America/New_York
BEGIN:DAYLIGHT
TZOFFSETFROM:-0500
TZOFFSETTO:-0400
TZNAME:EDT
DTSTART:20240310T070000
END:DAYLIGHT
BEGIN:STANDARD
TZOFFSETFROM:-0400
TZOFFSETTO:-0500
TZNAME:EST
DTSTART:20241103T060000
END:STANDARD
END:VTIMEZONE
BEGIN:VEVENT
DTSTART;TZID=America/New_York:20240601T093000
DTEND;TZID=America/New_York:20240601T103000
DTSTAMP:20260423T091451
CREATED:20240205T024435Z
LAST-MODIFIED:20240424T150907Z
UID:10002155-1717234200-1717237800@stpeterunningco.com
SUMMARY:Swim St Pete
DESCRIPTION:Join us for our adult swim training club. This is for beginning to advanced swimmers. (Need to be able to swim 1-2 lengths of the pool)\, we have high energy and knowledgeable coaches to lead the session. Pay at the pool $10 drop in or $50 per month. Walter Fuller Pool
URL:https://stpeterunningco.com/event/swim-st-pete-3-2-2-2/2024-06-01/
LOCATION:Walter Fuller Pool\, 7883 26th Ave N\, St Petersburg\, Fl
CATEGORIES:Training Program
END:VEVENT
BEGIN:VEVENT
DTSTART;TZID=America/New_York:20240604T053000
DTEND;TZID=America/New_York:20240604T064500
DTSTAMP:20260423T091451
CREATED:20231202T040530Z
LAST-MODIFIED:20250416T160609Z
UID:10000963-1717479000-1717483500@stpeterunningco.com
SUMMARY:Swim St Pete
DESCRIPTION:Join us for our adult swim training club. This is for beginning to advanced swimmers. (Need to be able to swim 1-2 lengths of the pool)\, we have high energy and knowledgeable coaches to lead the session. Pay at the pool $10 drop in or $50 per month. Walter Fuller Pool
URL:https://stpeterunningco.com/event/swim-st-pete-4-2/2024-06-04/
LOCATION:Walter Fuller Pool\, 7883 26th Ave N\, St Petersburg\, Fl
CATEGORIES:Training Program
END:VEVENT
BEGIN:VEVENT
DTSTART;TZID=America/New_York:20240606T053000
DTEND;TZID=America/New_York:20240606T064500
DTSTAMP:20260423T091451
CREATED:20231202T040811Z
LAST-MODIFIED:20251120T175051Z
UID:10000704-1717651800-1717656300@stpeterunningco.com
SUMMARY:Swim St Pete
DESCRIPTION:Join us for our adult swim training club. This is for beginning to advanced swimmers. (Need to be able to swim 1-2 lengths of the pool)\, we have high energy and knowledgeable coaches to lead the session. Pay at the pool $10 drop in or $60 per month. Walter Fuller Pool
URL:https://stpeterunningco.com/event/swim-st-pete-2-2-2/2024-06-06/
LOCATION:Walter Fuller Pool\, 7883 26th Ave N\, St Petersburg\, Fl
CATEGORIES:Training Program
END:VEVENT
BEGIN:VEVENT
DTSTART;TZID=America/New_York:20240608T093000
DTEND;TZID=America/New_York:20240608T103000
DTSTAMP:20260423T091451
CREATED:20240205T024435Z
LAST-MODIFIED:20240424T150907Z
UID:10002156-1717839000-1717842600@stpeterunningco.com
SUMMARY:Swim St Pete
DESCRIPTION:Join us for our adult swim training club. This is for beginning to advanced swimmers. (Need to be able to swim 1-2 lengths of the pool)\, we have high energy and knowledgeable coaches to lead the session. Pay at the pool $10 drop in or $50 per month. Walter Fuller Pool
URL:https://stpeterunningco.com/event/swim-st-pete-3-2-2-2/2024-06-08/
LOCATION:Walter Fuller Pool\, 7883 26th Ave N\, St Petersburg\, Fl
CATEGORIES:Training Program
END:VEVENT
BEGIN:VEVENT
DTSTART;TZID=America/New_York:20240611T053000
DTEND;TZID=America/New_York:20240611T064500
DTSTAMP:20260423T091451
CREATED:20231202T040530Z
LAST-MODIFIED:20250416T160609Z
UID:10000964-1718083800-1718088300@stpeterunningco.com
SUMMARY:Swim St Pete
DESCRIPTION:Join us for our adult swim training club. This is for beginning to advanced swimmers. (Need to be able to swim 1-2 lengths of the pool)\, we have high energy and knowledgeable coaches to lead the session. Pay at the pool $10 drop in or $50 per month. Walter Fuller Pool
URL:https://stpeterunningco.com/event/swim-st-pete-4-2/2024-06-11/
LOCATION:Walter Fuller Pool\, 7883 26th Ave N\, St Petersburg\, Fl
CATEGORIES:Training Program
END:VEVENT
BEGIN:VEVENT
DTSTART;TZID=America/New_York:20240613T053000
DTEND;TZID=America/New_York:20240613T064500
DTSTAMP:20260423T091451
CREATED:20231202T040811Z
LAST-MODIFIED:20251120T175051Z
UID:10000705-1718256600-1718261100@stpeterunningco.com
SUMMARY:Swim St Pete
DESCRIPTION:Join us for our adult swim training club. This is for beginning to advanced swimmers. (Need to be able to swim 1-2 lengths of the pool)\, we have high energy and knowledgeable coaches to lead the session. Pay at the pool $10 drop in or $60 per month. Walter Fuller Pool
URL:https://stpeterunningco.com/event/swim-st-pete-2-2-2/2024-06-13/
LOCATION:Walter Fuller Pool\, 7883 26th Ave N\, St Petersburg\, Fl
CATEGORIES:Training Program
END:VEVENT
BEGIN:VEVENT
DTSTART;TZID=America/New_York:20240615T093000
DTEND;TZID=America/New_York:20240615T103000
DTSTAMP:20260423T091451
CREATED:20240205T024435Z
LAST-MODIFIED:20240424T150907Z
UID:10002157-1718443800-1718447400@stpeterunningco.com
SUMMARY:Swim St Pete
DESCRIPTION:Join us for our adult swim training club. This is for beginning to advanced swimmers. (Need to be able to swim 1-2 lengths of the pool)\, we have high energy and knowledgeable coaches to lead the session. Pay at the pool $10 drop in or $50 per month. Walter Fuller Pool
URL:https://stpeterunningco.com/event/swim-st-pete-3-2-2-2/2024-06-15/
LOCATION:Walter Fuller Pool\, 7883 26th Ave N\, St Petersburg\, Fl
CATEGORIES:Training Program
END:VEVENT
BEGIN:VEVENT
DTSTART;TZID=America/New_York:20240618T053000
DTEND;TZID=America/New_York:20240618T064500
DTSTAMP:20260423T091451
CREATED:20231202T040530Z
LAST-MODIFIED:20250416T160609Z
UID:10000965-1718688600-1718693100@stpeterunningco.com
SUMMARY:Swim St Pete
DESCRIPTION:Join us for our adult swim training club. This is for beginning to advanced swimmers. (Need to be able to swim 1-2 lengths of the pool)\, we have high energy and knowledgeable coaches to lead the session. Pay at the pool $10 drop in or $50 per month. Walter Fuller Pool
URL:https://stpeterunningco.com/event/swim-st-pete-4-2/2024-06-18/
LOCATION:Walter Fuller Pool\, 7883 26th Ave N\, St Petersburg\, Fl
CATEGORIES:Training Program
END:VEVENT
BEGIN:VEVENT
DTSTART;TZID=America/New_York:20240620T053000
DTEND;TZID=America/New_York:20240620T064500
DTSTAMP:20260423T091451
CREATED:20231202T040811Z
LAST-MODIFIED:20251120T175051Z
UID:10000706-1718861400-1718865900@stpeterunningco.com
SUMMARY:Swim St Pete
DESCRIPTION:Join us for our adult swim training club. This is for beginning to advanced swimmers. (Need to be able to swim 1-2 lengths of the pool)\, we have high energy and knowledgeable coaches to lead the session. Pay at the pool $10 drop in or $60 per month. Walter Fuller Pool
URL:https://stpeterunningco.com/event/swim-st-pete-2-2-2/2024-06-20/
LOCATION:Walter Fuller Pool\, 7883 26th Ave N\, St Petersburg\, Fl
CATEGORIES:Training Program
END:VEVENT
BEGIN:VEVENT
DTSTART;TZID=America/New_York:20240622T093000
DTEND;TZID=America/New_York:20240622T103000
DTSTAMP:20260423T091451
CREATED:20240205T024435Z
LAST-MODIFIED:20240424T150907Z
UID:10002158-1719048600-1719052200@stpeterunningco.com
SUMMARY:Swim St Pete
DESCRIPTION:Join us for our adult swim training club. This is for beginning to advanced swimmers. (Need to be able to swim 1-2 lengths of the pool)\, we have high energy and knowledgeable coaches to lead the session. Pay at the pool $10 drop in or $50 per month. Walter Fuller Pool
URL:https://stpeterunningco.com/event/swim-st-pete-3-2-2-2/2024-06-22/
LOCATION:Walter Fuller Pool\, 7883 26th Ave N\, St Petersburg\, Fl
CATEGORIES:Training Program
END:VEVENT
BEGIN:VEVENT
DTSTART;TZID=America/New_York:20240625T053000
DTEND;TZID=America/New_York:20240625T064500
DTSTAMP:20260423T091451
CREATED:20231202T040530Z
LAST-MODIFIED:20250416T160609Z
UID:10000966-1719293400-1719297900@stpeterunningco.com
SUMMARY:Swim St Pete
DESCRIPTION:Join us for our adult swim training club. This is for beginning to advanced swimmers. (Need to be able to swim 1-2 lengths of the pool)\, we have high energy and knowledgeable coaches to lead the session. Pay at the pool $10 drop in or $50 per month. Walter Fuller Pool
URL:https://stpeterunningco.com/event/swim-st-pete-4-2/2024-06-25/
LOCATION:Walter Fuller Pool\, 7883 26th Ave N\, St Petersburg\, Fl
CATEGORIES:Training Program
END:VEVENT
BEGIN:VEVENT
DTSTART;TZID=America/New_York:20240627T053000
DTEND;TZID=America/New_York:20240627T064500
DTSTAMP:20260423T091451
CREATED:20231202T040811Z
LAST-MODIFIED:20251120T175051Z
UID:10000707-1719466200-1719470700@stpeterunningco.com
SUMMARY:Swim St Pete
DESCRIPTION:Join us for our adult swim training club. This is for beginning to advanced swimmers. (Need to be able to swim 1-2 lengths of the pool)\, we have high energy and knowledgeable coaches to lead the session. Pay at the pool $10 drop in or $60 per month. Walter Fuller Pool
URL:https://stpeterunningco.com/event/swim-st-pete-2-2-2/2024-06-27/
LOCATION:Walter Fuller Pool\, 7883 26th Ave N\, St Petersburg\, Fl
CATEGORIES:Training Program
END:VEVENT
BEGIN:VEVENT
DTSTART;TZID=America/New_York:20240629T093000
DTEND;TZID=America/New_York:20240629T103000
DTSTAMP:20260423T091451
CREATED:20240205T024435Z
LAST-MODIFIED:20240424T150907Z
UID:10002159-1719653400-1719657000@stpeterunningco.com
SUMMARY:Swim St Pete
DESCRIPTION:Join us for our adult swim training club. This is for beginning to advanced swimmers. (Need to be able to swim 1-2 lengths of the pool)\, we have high energy and knowledgeable coaches to lead the session. Pay at the pool $10 drop in or $50 per month. Walter Fuller Pool
URL:https://stpeterunningco.com/event/swim-st-pete-3-2-2-2/2024-06-29/
LOCATION:Walter Fuller Pool\, 7883 26th Ave N\, St Petersburg\, Fl
CATEGORIES:Training Program
END:VEVENT
END:VCALENDAR